BEGIN:VCALENDAR
VERSION:2.0
PRODID:-//Mike Brown Group - ECPv6.15.6//NONSGML v1.0//EN
CALSCALE:GREGORIAN
METHOD:PUBLISH
X-WR-CALNAME:Mike Brown Group
X-ORIGINAL-URL:https://www.mikebrowngroup.com
X-WR-CALDESC:Events for Mike Brown Group
REFRESH-INTERVAL;VALUE=DURATION:PT1H
X-Robots-Tag:noindex
X-PUBLISHED-TTL:PT1H
BEGIN:VTIMEZONE
TZID:UTC
BEGIN:STANDARD
TZOFFSETFROM:+0000
TZOFFSETTO:+0000
TZNAME:UTC
DTSTART:20250101T000000
END:STANDARD
END:VTIMEZONE
BEGIN:VEVENT
DTSTART;TZID=UTC:20260804T180000
DTEND;TZID=UTC:20260804T210000
DTSTAMP:20260425T112014
CREATED:20260424T201422Z
LAST-MODIFIED:20260424T201422Z
UID:145748-1785866400-1785877200@www.mikebrowngroup.com
SUMMARY:TUESDAYS ON THE CREEK
DESCRIPTION:Sunsets & Songs\nSpend your Tuesday nights on the Creek in downtown Caldwell. This 20-week event series includes live music from both local and touring artists. Each week we curate for you talented and engaging musicians sure to get you up off your seat and dance with your special someone.  \nThat’s right\, gents\, show her off! Enjoy music from various genres\, grab some grub to go from one of the plaza’s incredible eateries and make some memories as the sun sets over the meandering creek.  \nHeld in conjunction with Farm to Fork Market\, peruse the food and craft vendors while you listen to great music. \n\n\n\n\n\n\n\n\n\n\n\n\n\n\n\n\n\n\n\n\n\n\n\nTABLE RESERVATIONS\n\n\n\n\n\n\n\n\n\n\n\n\n\n \n\n\n\n\n\n\n\n\n\n\n\n\n\n\nGet Comfortable and Stay for a While!\n\n\n\n\n\n\n\n\n\n\nTables are $80 and include seating for eight. Your reservation MUST be submitted 48 hours in advance. Tables are limited on a first come first serve basis. Table reservations are non-refundable. \n\n\n\n\n\n\n\n\nReserve Your Table Here
URL:https://www.mikebrowngroup.com/event/tuesdays-on-the-creek-52/
LOCATION:Indian Creek Plaza\, 120 S Kimball Ave\, Caldwell\, Idaho\, 83605
CATEGORIES:Festivals & Events
ATTACH;FMTTYPE=image/png:https://www.mikebrowngroup.com/wp-content/uploads/2026/04/Screenshot-2026-04-24-at-9.49.10 AM.png
END:VEVENT
BEGIN:VEVENT
DTSTART;TZID=UTC:20260808T090000
DTEND;TZID=UTC:20260808T130000
DTSTAMP:20260425T112014
CREATED:20260407T215104Z
LAST-MODIFIED:20260407T215104Z
UID:144026-1786179600-1786194000@www.mikebrowngroup.com
SUMMARY:Boise Farmers Market
DESCRIPTION:THE BOISE FARMERS MARKET SUPPORTS A REGENERATIVE\, HEALTHY FOOD AND AGRICULTURAL SYSTEM BY OPERATING A VIBRANT MARKETPLACE FEATURING LOCALLY GROWN AND CRAFTED PRODUCTS.\nAt the Boise Farmers Market you will find fresh local seasonal vegetables and fruit\, many types of locally raised protein\, breads and pastries\, honey\, jams and sauces\, fresh-roasted coffee\, and a delicious selection of ready-to-eat foods. We always have the best of what is local and in season! \nPlease join us at the Boise Farmers Market\, where you’ll find farmers you can trust and food you can trace.
URL:https://www.mikebrowngroup.com/event/boise-farmers-market-8-8-26/
LOCATION:Boise Farmers Market\, 1500 Shoreline Drive\, Boise\, Idaho\, 83712
CATEGORIES:Family,Farmers Market,Festivals & Events
ATTACH;FMTTYPE=image/png:https://www.mikebrowngroup.com/wp-content/uploads/2024/04/logo-text.png
END:VEVENT
BEGIN:VEVENT
DTSTART;TZID=UTC:20260811T180000
DTEND;TZID=UTC:20260811T210000
DTSTAMP:20260425T112014
CREATED:20260424T201705Z
LAST-MODIFIED:20260424T201705Z
UID:145750-1786471200-1786482000@www.mikebrowngroup.com
SUMMARY:TUESDAYS ON THE CREEK
DESCRIPTION:Sunsets & Songs\nSpend your Tuesday nights on the Creek in downtown Caldwell. This 20-week event series includes live music from both local and touring artists. Each week we curate for you talented and engaging musicians sure to get you up off your seat and dance with your special someone.  \nThat’s right\, gents\, show her off! Enjoy music from various genres\, grab some grub to go from one of the plaza’s incredible eateries and make some memories as the sun sets over the meandering creek.  \nHeld in conjunction with Farm to Fork Market\, peruse the food and craft vendors while you listen to great music. \n\n\n\n\n\n\n\n\n\n\n\n\n\n\n\n\n\n\n\n\n\n\n\nTABLE RESERVATIONS\n\n\n\n\n\n\n\n\n\n\n\n\n\n \n\n\n\n\n\n\n\n\n\n\n\n\n\n\nGet Comfortable and Stay for a While!\n\n\n\n\n\n\n\n\n\n\nTables are $80 and include seating for eight. Your reservation MUST be submitted 48 hours in advance. Tables are limited on a first come first serve basis. Table reservations are non-refundable. \n\n\n\n\n\n\n\n\nReserve Your Table Here
URL:https://www.mikebrowngroup.com/event/tuesdays-on-the-creek-53/
LOCATION:Indian Creek Plaza\, 120 S Kimball Ave\, Caldwell\, Idaho\, 83605
CATEGORIES:Festivals & Events
ATTACH;FMTTYPE=image/png:https://www.mikebrowngroup.com/wp-content/uploads/2026/04/Screenshot-2026-04-24-at-9.49.10 AM.png
END:VEVENT
BEGIN:VEVENT
DTSTART;TZID=UTC:20260815T090000
DTEND;TZID=UTC:20260815T130000
DTSTAMP:20260425T112014
CREATED:20260407T215224Z
LAST-MODIFIED:20260407T215224Z
UID:144028-1786784400-1786798800@www.mikebrowngroup.com
SUMMARY:Boise Farmers Market
DESCRIPTION:THE BOISE FARMERS MARKET SUPPORTS A REGENERATIVE\, HEALTHY FOOD AND AGRICULTURAL SYSTEM BY OPERATING A VIBRANT MARKETPLACE FEATURING LOCALLY GROWN AND CRAFTED PRODUCTS.\nAt the Boise Farmers Market you will find fresh local seasonal vegetables and fruit\, many types of locally raised protein\, breads and pastries\, honey\, jams and sauces\, fresh-roasted coffee\, and a delicious selection of ready-to-eat foods. We always have the best of what is local and in season! \nPlease join us at the Boise Farmers Market\, where you’ll find farmers you can trust and food you can trace.
URL:https://www.mikebrowngroup.com/event/boise-farmers-market-8-15-26/
LOCATION:Boise Farmers Market\, 1500 Shoreline Drive\, Boise\, Idaho\, 83712
CATEGORIES:Family,Farmers Market,Festivals & Events
ATTACH;FMTTYPE=image/png:https://www.mikebrowngroup.com/wp-content/uploads/2024/04/logo-text.png
END:VEVENT
BEGIN:VEVENT
DTSTART;TZID=UTC:20260818T180000
DTEND;TZID=UTC:20260818T210000
DTSTAMP:20260425T112014
CREATED:20260424T201747Z
LAST-MODIFIED:20260424T201747Z
UID:145752-1787076000-1787086800@www.mikebrowngroup.com
SUMMARY:TUESDAYS ON THE CREEK
DESCRIPTION:Sunsets & Songs\nSpend your Tuesday nights on the Creek in downtown Caldwell. This 20-week event series includes live music from both local and touring artists. Each week we curate for you talented and engaging musicians sure to get you up off your seat and dance with your special someone.  \nThat’s right\, gents\, show her off! Enjoy music from various genres\, grab some grub to go from one of the plaza’s incredible eateries and make some memories as the sun sets over the meandering creek.  \nHeld in conjunction with Farm to Fork Market\, peruse the food and craft vendors while you listen to great music. \n\n\n\n\n\n\n\n\n\n\n\n\n\n\n\n\n\n\n\n\n\n\n\nTABLE RESERVATIONS\n\n\n\n\n\n\n\n\n\n\n\n\n\n \n\n\n\n\n\n\n\n\n\n\n\n\n\n\nGet Comfortable and Stay for a While!\n\n\n\n\n\n\n\n\n\n\nTables are $80 and include seating for eight. Your reservation MUST be submitted 48 hours in advance. Tables are limited on a first come first serve basis. Table reservations are non-refundable. \n\n\n\n\n\n\n\n\nReserve Your Table Here
URL:https://www.mikebrowngroup.com/event/tuesdays-on-the-creek-54/
LOCATION:Indian Creek Plaza\, 120 S Kimball Ave\, Caldwell\, Idaho\, 83605
CATEGORIES:Festivals & Events
ATTACH;FMTTYPE=image/png:https://www.mikebrowngroup.com/wp-content/uploads/2026/04/Screenshot-2026-04-24-at-9.49.10 AM.png
END:VEVENT
BEGIN:VEVENT
DTSTART;TZID=UTC:20260822T090000
DTEND;TZID=UTC:20260822T130000
DTSTAMP:20260425T112014
CREATED:20260407T215356Z
LAST-MODIFIED:20260407T215356Z
UID:144030-1787389200-1787403600@www.mikebrowngroup.com
SUMMARY:Boise Farmers Market
DESCRIPTION:THE BOISE FARMERS MARKET SUPPORTS A REGENERATIVE\, HEALTHY FOOD AND AGRICULTURAL SYSTEM BY OPERATING A VIBRANT MARKETPLACE FEATURING LOCALLY GROWN AND CRAFTED PRODUCTS.\nAt the Boise Farmers Market you will find fresh local seasonal vegetables and fruit\, many types of locally raised protein\, breads and pastries\, honey\, jams and sauces\, fresh-roasted coffee\, and a delicious selection of ready-to-eat foods. We always have the best of what is local and in season! \nPlease join us at the Boise Farmers Market\, where you’ll find farmers you can trust and food you can trace.
URL:https://www.mikebrowngroup.com/event/boise-farmers-market-8-22-26/
LOCATION:Boise Farmers Market\, 1500 Shoreline Drive\, Boise\, Idaho\, 83712
CATEGORIES:Family,Farmers Market,Festivals & Events
ATTACH;FMTTYPE=image/png:https://www.mikebrowngroup.com/wp-content/uploads/2024/04/logo-text.png
END:VEVENT
BEGIN:VEVENT
DTSTART;TZID=UTC:20260829T090000
DTEND;TZID=UTC:20260829T130000
DTSTAMP:20260425T112014
CREATED:20260407T215459Z
LAST-MODIFIED:20260407T215459Z
UID:144032-1787994000-1788008400@www.mikebrowngroup.com
SUMMARY:Boise Farmers Market
DESCRIPTION:THE BOISE FARMERS MARKET SUPPORTS A REGENERATIVE\, HEALTHY FOOD AND AGRICULTURAL SYSTEM BY OPERATING A VIBRANT MARKETPLACE FEATURING LOCALLY GROWN AND CRAFTED PRODUCTS.\nAt the Boise Farmers Market you will find fresh local seasonal vegetables and fruit\, many types of locally raised protein\, breads and pastries\, honey\, jams and sauces\, fresh-roasted coffee\, and a delicious selection of ready-to-eat foods. We always have the best of what is local and in season! \nPlease join us at the Boise Farmers Market\, where you’ll find farmers you can trust and food you can trace.
URL:https://www.mikebrowngroup.com/event/boise-farmers-market-8-29-26/
LOCATION:Boise Farmers Market\, 1500 Shoreline Drive\, Boise\, Idaho\, 83712
CATEGORIES:Family,Farmers Market,Festivals & Events
ATTACH;FMTTYPE=image/png:https://www.mikebrowngroup.com/wp-content/uploads/2024/04/logo-text.png
END:VEVENT
BEGIN:VEVENT
DTSTART;TZID=UTC:20260905T090000
DTEND;TZID=UTC:20260905T130000
DTSTAMP:20260425T112014
CREATED:20260407T215612Z
LAST-MODIFIED:20260407T215612Z
UID:144034-1788598800-1788613200@www.mikebrowngroup.com
SUMMARY:Boise Farmers Market
DESCRIPTION:THE BOISE FARMERS MARKET SUPPORTS A REGENERATIVE\, HEALTHY FOOD AND AGRICULTURAL SYSTEM BY OPERATING A VIBRANT MARKETPLACE FEATURING LOCALLY GROWN AND CRAFTED PRODUCTS.\nAt the Boise Farmers Market you will find fresh local seasonal vegetables and fruit\, many types of locally raised protein\, breads and pastries\, honey\, jams and sauces\, fresh-roasted coffee\, and a delicious selection of ready-to-eat foods. We always have the best of what is local and in season! \nPlease join us at the Boise Farmers Market\, where you’ll find farmers you can trust and food you can trace.
URL:https://www.mikebrowngroup.com/event/boise-farmers-market-9-5-26/
LOCATION:Boise Farmers Market\, 1500 Shoreline Drive\, Boise\, Idaho\, 83712
CATEGORIES:Family,Farmers Market,Festivals & Events
ATTACH;FMTTYPE=image/png:https://www.mikebrowngroup.com/wp-content/uploads/2024/04/logo-text.png
END:VEVENT
BEGIN:VEVENT
DTSTART;TZID=UTC:20260912T090000
DTEND;TZID=UTC:20260912T130000
DTSTAMP:20260425T112014
CREATED:20260407T215730Z
LAST-MODIFIED:20260407T215730Z
UID:144036-1789203600-1789218000@www.mikebrowngroup.com
SUMMARY:Boise Farmers Market
DESCRIPTION:THE BOISE FARMERS MARKET SUPPORTS A REGENERATIVE\, HEALTHY FOOD AND AGRICULTURAL SYSTEM BY OPERATING A VIBRANT MARKETPLACE FEATURING LOCALLY GROWN AND CRAFTED PRODUCTS.\nAt the Boise Farmers Market you will find fresh local seasonal vegetables and fruit\, many types of locally raised protein\, breads and pastries\, honey\, jams and sauces\, fresh-roasted coffee\, and a delicious selection of ready-to-eat foods. We always have the best of what is local and in season! \nPlease join us at the Boise Farmers Market\, where you’ll find farmers you can trust and food you can trace.
URL:https://www.mikebrowngroup.com/event/boise-farmers-market-9-12-26/
LOCATION:Boise Farmers Market\, 1500 Shoreline Drive\, Boise\, Idaho\, 83712
CATEGORIES:Family,Farmers Market,Festivals & Events
ATTACH;FMTTYPE=image/png:https://www.mikebrowngroup.com/wp-content/uploads/2024/04/logo-text.png
END:VEVENT
BEGIN:VEVENT
DTSTART;TZID=UTC:20260919T090000
DTEND;TZID=UTC:20260919T130000
DTSTAMP:20260425T112014
CREATED:20260407T215824Z
LAST-MODIFIED:20260407T215824Z
UID:144038-1789808400-1789822800@www.mikebrowngroup.com
SUMMARY:Boise Farmers Market
DESCRIPTION:THE BOISE FARMERS MARKET SUPPORTS A REGENERATIVE\, HEALTHY FOOD AND AGRICULTURAL SYSTEM BY OPERATING A VIBRANT MARKETPLACE FEATURING LOCALLY GROWN AND CRAFTED PRODUCTS.\nAt the Boise Farmers Market you will find fresh local seasonal vegetables and fruit\, many types of locally raised protein\, breads and pastries\, honey\, jams and sauces\, fresh-roasted coffee\, and a delicious selection of ready-to-eat foods. We always have the best of what is local and in season! \nPlease join us at the Boise Farmers Market\, where you’ll find farmers you can trust and food you can trace.
URL:https://www.mikebrowngroup.com/event/boise-farmers-market-9-19-26/
LOCATION:Boise Farmers Market\, 1500 Shoreline Drive\, Boise\, Idaho\, 83712
CATEGORIES:Family,Farmers Market,Festivals & Events
ATTACH;FMTTYPE=image/png:https://www.mikebrowngroup.com/wp-content/uploads/2024/04/logo-text.png
END:VEVENT
BEGIN:VEVENT
DTSTART;TZID=UTC:20260926T090000
DTEND;TZID=UTC:20260926T130000
DTSTAMP:20260425T112014
CREATED:20260407T215914Z
LAST-MODIFIED:20260407T215914Z
UID:144040-1790413200-1790427600@www.mikebrowngroup.com
SUMMARY:Boise Farmers Market
DESCRIPTION:THE BOISE FARMERS MARKET SUPPORTS A REGENERATIVE\, HEALTHY FOOD AND AGRICULTURAL SYSTEM BY OPERATING A VIBRANT MARKETPLACE FEATURING LOCALLY GROWN AND CRAFTED PRODUCTS.\nAt the Boise Farmers Market you will find fresh local seasonal vegetables and fruit\, many types of locally raised protein\, breads and pastries\, honey\, jams and sauces\, fresh-roasted coffee\, and a delicious selection of ready-to-eat foods. We always have the best of what is local and in season! \nPlease join us at the Boise Farmers Market\, where you’ll find farmers you can trust and food you can trace.
URL:https://www.mikebrowngroup.com/event/boise-farmers-market-9-26-26/
LOCATION:Boise Farmers Market\, 1500 Shoreline Drive\, Boise\, Idaho\, 83712
CATEGORIES:Family,Farmers Market,Festivals & Events
ATTACH;FMTTYPE=image/png:https://www.mikebrowngroup.com/wp-content/uploads/2024/04/logo-text.png
END:VEVENT
BEGIN:VEVENT
DTSTART;TZID=UTC:20261003T090000
DTEND;TZID=UTC:20261003T130000
DTSTAMP:20260425T112014
CREATED:20260407T220215Z
LAST-MODIFIED:20260407T220215Z
UID:144042-1791018000-1791032400@www.mikebrowngroup.com
SUMMARY:Boise Farmers Market
DESCRIPTION:THE BOISE FARMERS MARKET SUPPORTS A REGENERATIVE\, HEALTHY FOOD AND AGRICULTURAL SYSTEM BY OPERATING A VIBRANT MARKETPLACE FEATURING LOCALLY GROWN AND CRAFTED PRODUCTS.\nAt the Boise Farmers Market you will find fresh local seasonal vegetables and fruit\, many types of locally raised protein\, breads and pastries\, honey\, jams and sauces\, fresh-roasted coffee\, and a delicious selection of ready-to-eat foods. We always have the best of what is local and in season! \nPlease join us at the Boise Farmers Market\, where you’ll find farmers you can trust and food you can trace.
URL:https://www.mikebrowngroup.com/event/boise-farmers-market-10-3-26/
LOCATION:Boise Farmers Market\, 1500 Shoreline Drive\, Boise\, Idaho\, 83712
CATEGORIES:Family,Farmers Market,Festivals & Events
ATTACH;FMTTYPE=image/png:https://www.mikebrowngroup.com/wp-content/uploads/2024/04/logo-text.png
END:VEVENT
END:VCALENDAR