BEGIN:VCALENDAR
VERSION:2.0
PRODID:-//Mike Brown Group - ECPv6.15.6//NONSGML v1.0//EN
CALSCALE:GREGORIAN
METHOD:PUBLISH
X-ORIGINAL-URL:https://www.mikebrowngroup.com
X-WR-CALDESC:Events for Mike Brown Group
REFRESH-INTERVAL;VALUE=DURATION:PT1H
X-Robots-Tag:noindex
X-PUBLISHED-TTL:PT1H
BEGIN:VTIMEZONE
TZID:UTC
BEGIN:STANDARD
TZOFFSETFROM:+0000
TZOFFSETTO:+0000
TZNAME:UTC
DTSTART:20250101T000000
END:STANDARD
END:VTIMEZONE
BEGIN:VEVENT
DTSTART;TZID=UTC:20260430T180000
DTEND;TZID=UTC:20260430T210000
DTSTAMP:20260426T001504
CREATED:20260421T211233Z
LAST-MODIFIED:20260421T211233Z
UID:145475-1777572000-1777582800@www.mikebrowngroup.com
SUMMARY:Fourth Annual Cinco De Mayo Street Festival
DESCRIPTION:Event by Downtown Nampa\n\n\n\n\n\n\n\n\n\n\n\n\n1st Street South \, Nampa\, ID\, United States\, Idaho 83651\n\n\n\n\n\n\n\n\n\n\n\n\nDuration: 3 hr\n\n\n\n\n\n\n\n\n\n\n\nPublic  · Anyone on or off Facebook\n\n\n\n\n\n\n\n Cinco de Mayo Street Festival \n Thursday\, April 30\, 2026 6:00 PM – 9:00 PM Downtown Nampa Free\nWe’re kicking off the season with one of the most fun nights of the year \nCinco de Mayo Festival in back for its fourth year in Downtown Nampa! The streets are full of vendors and familiar faces. Performances from three groups\, street food vendors from 208NightMarket\, mechanical bull and so much more!\nWalk around\, grab something amazing to eat\, support local\, and just enjoy being out downtown. Whether you stay for a bit or the whole night\, it’s a solid way to start the season and get the family out!\nVendor Information: https://downtownnampa.com/event-vendorsVendor/Inquires: Events@DowntownNampa.comSponsorships: Info@DowntownNampa.com\nThank you to Lactalis for being our Visionary Sponsor of the year!
URL:https://www.mikebrowngroup.com/event/fourth-annual-cinco-de-mayo-street-festival/
LOCATION:Downtown Nampa\, 1st Street South\, Nampa\, ID
CATEGORIES:Cinco de Mayo
ATTACH;FMTTYPE=image/jpeg:https://www.mikebrowngroup.com/wp-content/uploads/2026/04/656791815_1365371978944909_4549468037364661979_n.jpg
END:VEVENT
BEGIN:VEVENT
DTSTART;TZID=UTC:20260430T200000
DTEND;TZID=UTC:20260430T200000
DTSTAMP:20260426T001504
CREATED:20260402T205308Z
LAST-MODIFIED:20260402T205308Z
UID:143556-1777579200-1777579200@www.mikebrowngroup.com
SUMMARY:MILLENNIAL CHOIRS & ORCHESTRAS
DESCRIPTION:Millennial® Choirs & Orchestras proudly presents AMERICA 250\, a powerful musical tribute celebrating 250 years of the American story. Featuring hundreds of musicians – including children\, youth\, and adults\, joined with a full symphony orchestra – this inspiring concert reflects on the sacrifices\, struggles\, and shared ideals that shaped a nation. It brings generations together to express convictions of courage\, faith\, perseverance\, and hope\, inviting audiences to reflect on what it means to be American and the ideals we pass on that continue to unite and inspire.
URL:https://www.mikebrowngroup.com/event/millennial-choirs-orchestras-2/
LOCATION:Morrison Center\, 2201 West Cesar Chavez Lane\, Boise\, Idaho\, 83725
CATEGORIES:Arts & Music
ATTACH;FMTTYPE=image/webp:https://www.mikebrowngroup.com/wp-content/uploads/2026/04/MCO-1440-x-500-px-9e4de2fa24.webp
END:VEVENT
END:VCALENDAR